BEGIN:VCALENDAR
VERSION:2.0
PRODID:-//eventon.com NONSGML v1.0//EN
CALSCALE:GREGORIAN
METHOD:PUBLISH
BEGIN:VEVENT
UID:69ec1bb512fff
DTSTAMP:20260425T014109Z
DTSTART:20200913
DTEND:20200914
LOCATION:Tarcal - BÃ¡nyatÃ³
SUMMARY:Tarcal Trial OrszÃ¡gos BajnoksÃ¡g 2020
DESCRIPTION:Kedves RÃ©sztvevÅ‘k Ã©s SzurkolÃ³k! A 2020-as Ã©vben a Tarcali 
 BÃ¡nyatÃ³nÃ¡l kerÃ¼l megrendezÃ©sre a TriÃ¡l OrszÃ¡gos bajnoksÃ¡g. SzeretnÃ
 ©nk invitÃ¡lni minden versenyzÅ‘t Ã©s Ã©rdeklÅ‘dÅ‘t erre a megmÃ©rettetÃ©sr
 e. VersenyzÅ‘k kÃ©szÃ¼ljetek kemÃ©nyen! A szekciÃ³k kizÃ¡rÃ³lag sziklÃ¡kbÃ³
 l fognak Ã¡llni. SzÃ¼ksÃ©getek lesz tapadÃ¡sra\,  Ã¡llÃ³kÃ©pessÃ©gre Ã©s te
 chnikÃ¡ra egyarÃ¡nt. NÃ©zÅ‘kÃ©nt veszel rÃ©szt? Remek! VÃ¡runk szeretettel\
 ,  nÃ©zd meg az[..]\nhttps://bringasport.hu/verseny/tarcal-trial-orszagos-b
 ajnoksag-2020/
URL:https://bringasport.hu/verseny/tarcal-trial-orszagos-bajnoksag-2020/
END:VEVENT
END:VCALENDAR